BEGIN:VCALENDAR
VERSION:2.0
PRODID:-//Cotswold Trekker - Visit Cotswolds - ECPv6.15.11//NONSGML v1.0//EN
CALSCALE:GREGORIAN
METHOD:PUBLISH
X-WR-CALNAME:Cotswold Trekker - Visit Cotswolds
X-ORIGINAL-URL:https://cotswoldtrekker.com
X-WR-CALDESC:Events for Cotswold Trekker - Visit Cotswolds
REFRESH-INTERVAL;VALUE=DURATION:PT1H
X-Robots-Tag:noindex
X-PUBLISHED-TTL:PT1H
BEGIN:VTIMEZONE
TZID:Europe/London
BEGIN:DAYLIGHT
TZOFFSETFROM:+0000
TZOFFSETTO:+0100
TZNAME:BST
DTSTART:20150329T010000
END:DAYLIGHT
BEGIN:STANDARD
TZOFFSETFROM:+0100
TZOFFSETTO:+0000
TZNAME:GMT
DTSTART:20151025T010000
END:STANDARD
BEGIN:DAYLIGHT
TZOFFSETFROM:+0000
TZOFFSETTO:+0100
TZNAME:BST
DTSTART:20160327T010000
END:DAYLIGHT
BEGIN:STANDARD
TZOFFSETFROM:+0100
TZOFFSETTO:+0000
TZNAME:GMT
DTSTART:20161030T010000
END:STANDARD
BEGIN:DAYLIGHT
TZOFFSETFROM:+0000
TZOFFSETTO:+0100
TZNAME:BST
DTSTART:20170326T010000
END:DAYLIGHT
BEGIN:STANDARD
TZOFFSETFROM:+0100
TZOFFSETTO:+0000
TZNAME:GMT
DTSTART:20171029T010000
END:STANDARD
BEGIN:DAYLIGHT
TZOFFSETFROM:+0000
TZOFFSETTO:+0100
TZNAME:BST
DTSTART:20180325T010000
END:DAYLIGHT
BEGIN:STANDARD
TZOFFSETFROM:+0100
TZOFFSETTO:+0000
TZNAME:GMT
DTSTART:20181028T010000
END:STANDARD
BEGIN:DAYLIGHT
TZOFFSETFROM:+0000
TZOFFSETTO:+0100
TZNAME:BST
DTSTART:20190331T010000
END:DAYLIGHT
BEGIN:STANDARD
TZOFFSETFROM:+0100
TZOFFSETTO:+0000
TZNAME:GMT
DTSTART:20191027T010000
END:STANDARD
END:VTIMEZONE
BEGIN:VEVENT
DTSTART;TZID=Europe/London:20180707T110000
DTEND;TZID=Europe/London:20180708T170000
DTSTAMP:20260425T024444
CREATED:20180819T124916Z
LAST-MODIFIED:20180906T130903Z
UID:2937-1530961200-1531069200@cotswoldtrekker.com
SUMMARY:Fladbury Walkabout 2018
DESCRIPTION:Fladbury Walkabout 2018 \n \nFlower Festival and Walkabout with 20+ Open Gardens and much more. \nhttp://www.fladburyvillage.co.uk/walkabout/ \n 
URL:https://cotswoldtrekker.com/event/fladbury-walkabout-2018/
CATEGORIES:Festival,Things to do,Walking
ATTACH;FMTTYPE=image/jpeg:https://cotswoldtrekker.com/wp-content/uploads/2018/08/teaserbox_24761323631-Medium.jpg
END:VEVENT
BEGIN:VEVENT
DTSTART;TZID=Europe/London:20180601T080000
DTEND;TZID=Europe/London:20180603T170000
DTSTAMP:20260425T024444
CREATED:20160223T081612Z
LAST-MODIFIED:20180911T095557Z
UID:433-1527840000-1528045200@cotswoldtrekker.com
SUMMARY:Wychwood Festival 2018
DESCRIPTION:Cheltenham Racecourse – 1st – 3rd June 2018.  Lots of great bands. Buy your tickets here \nhttp://wychwoodfestival.com/buy-tickets
URL:https://cotswoldtrekker.com/event/wychwood-festival/
CATEGORIES:Festival,Music
ATTACH;FMTTYPE=image/jpeg:https://cotswoldtrekker.com/wp-content/uploads/2016/02/AroundTheSite-WychwoodFestival2008-PB12-Medium.jpg
END:VEVENT
BEGIN:VEVENT
DTSTART;TZID=Europe/London:20180528T100000
DTEND;TZID=Europe/London:20180528T170000
DTSTAMP:20260425T024444
CREATED:20160219T221302Z
LAST-MODIFIED:20180819T122559Z
UID:388-1527501600-1527526800@cotswoldtrekker.com
SUMMARY:Cheese Rolling @ (Coopers Hill) 2018
DESCRIPTION:The Cooper’s Hill Cheese-Rolling is an annual event held on the Spring Bank Holiday at Cooper’s Hill\, near Gloucester in England. It is traditionally done by and for the people who live in the local village of Brockworth\, but now people from all over the world take part. The Guardian called it a “world-famous event”\, and indeed\, in 2013\, a 27-year-old American man and a 39-year-old Japanese man each won one of the four races. The event takes its name from the hill on which it occurs. \nhttp://www.cheese-rolling.co.uk/index1.htm
URL:https://cotswoldtrekker.com/event/cheese-rolling-coopers-hill/
CATEGORIES:Festival
ATTACH;FMTTYPE=image/jpeg:https://cotswoldtrekker.com/wp-content/uploads/2016/02/Cheese_Rolling-Medium.jpg
END:VEVENT
BEGIN:VEVENT
DTSTART;VALUE=DATE:20180512
DTEND;VALUE=DATE:20180513
DTSTAMP:20260425T024444
CREATED:20171029T134925Z
LAST-MODIFIED:20180913T073026Z
UID:2040-1526083200-1526169599@cotswoldtrekker.com
SUMMARY:Randwick Wap 2018
DESCRIPTION:Randwick Wap 2018\nThe Randwick Wap is a series of events during spring which culminates in a traditional procession and festival dating back to the Middle Ages. Various theories exist on how it began\, although most villagers believe it was a celebration that followed the completion of building Randwick’s parish church. The Wap was revived by Randwick’s late vicar\, Rev. Nial Morrison\, in 1972 and has steadily grown to become one of the region’s leading annual events. \nIt is a great free afternoon out for families and we have visited on many occasions.  We enjoy the procession in the village and the events on the showground afterwards. \nHere is the website for more details\nhttp://www.randwick.org.uk/Wap/Wap.html \nIf it’s a nice day we highly recommend you go along to this free event.
URL:https://cotswoldtrekker.com/event/randwick-wap-3/
CATEGORIES:Festival,Things to do
ATTACH;FMTTYPE=image/jpeg:https://cotswoldtrekker.com/wp-content/uploads/2017/05/P1130641-Medium.jpg
END:VEVENT
BEGIN:VEVENT
DTSTART;VALUE=DATE:20180427
DTEND;VALUE=DATE:20180429
DTSTAMP:20260425T024444
CREATED:20180911T080209Z
LAST-MODIFIED:20180911T080358Z
UID:3552-1524787200-1524959999@cotswoldtrekker.com
SUMMARY:Gloucester CAMRA Beer & Cider Festival 2018 - 6th Year
DESCRIPTION:Gloucester CAMRA Beer & Cider Festival 2018 – 6th Year\nOrganised by CAMRA in Gloucester who are passionate about real ale and cider\, the festival is about sharing that passion with others. With around 100 beers and over 30 ciders and perries on offer\, there will be something for everyone. Added to that is the artisan cheese bar offering a wide range of Gloucestershire cheese.\nLive music will entertain all on Friday evening and most of Saturday but there are also quiet spaces available for those who would prefer to chat to friends or sup their ale or cider in peace! \nhttp://www.gloucesterbeerfestival.org.uk/
URL:https://cotswoldtrekker.com/event/gloucester-camra-beer-cider-festival-2018-6th-year/
CATEGORIES:Festival
ATTACH;FMTTYPE=image/jpeg:https://cotswoldtrekker.com/wp-content/uploads/2018/09/Gloucester-Beer-Festival-Medium.jpg
END:VEVENT
BEGIN:VEVENT
DTSTART;TZID=Europe/London:20180313T080000
DTEND;TZID=Europe/London:20180316T170000
DTSTAMP:20260425T024444
CREATED:20180311T125421Z
LAST-MODIFIED:20180311T135254Z
UID:2824-1520928000-1521219600@cotswoldtrekker.com
SUMMARY:2018 Cheltenham Festival
DESCRIPTION:The 2018 Cheltenham Festival will run from 13th to 16th March with the Cheltenham Gold Cup taking place on Friday 16th March. The Cheltenham Festival is one of sport’s most enthralling extravaganzas and in 2018 the nation will once again be swept by horse racing fever as gamblers and racing fanatics prepare to embark on an unrivalled path of excitement. The course can expect to welcome over 200\,000 racegoers from all over the world.\n\n\nTuesday 13th March – Champion Day \nDay 1 of the Cheltenham Festival\, featuring the 2018 Champion Hurdle \nWednesday 14th March – Ladies Day \nDay 2 of the Cheltenham Festival\, featuring the 2018 Queen Mother Champion Chase \nThursday 15th March – St Patrick’s Day \nDay 3 of the Cheltenham Festival\, featuring the 2018 Ladbrokes World Hurdle \nFriday 16th March – Cheltenham Gold Cup Day \nDay 4 of the Cheltenham Festival\, featuring the 2018 Gold Cup \nFor more information visit: https://www.cheltenhamfestival.net/
URL:https://cotswoldtrekker.com/event/2018-cheltenham-festival/
CATEGORIES:Festival,Horse Racing
ATTACH;FMTTYPE=image/jpeg:https://cotswoldtrekker.com/wp-content/uploads/2018/03/Cheltenham-Gold-Cup-Medium.jpg
END:VEVENT
BEGIN:VEVENT
DTSTART;TZID=Europe/London:20180113T180000
DTEND;TZID=Europe/London:20180113T200000
DTSTAMP:20260425T024444
CREATED:20171105T180229Z
LAST-MODIFIED:20180114T123936Z
UID:2170-1515866400-1515873600@cotswoldtrekker.com
SUMMARY:Wassail! @ The Fleece Inn
DESCRIPTION:The Fleece Inn\, Bretforton \nChristmas is over and January sees the return of the Fleece Inn annual Wassail. From dusk the apple orchard becomes alive with cider\, singing and Morris men. Join this pagan tradition of waking the trees to encourage a good harvest in preparation for next years cider\, fun for all the family and a brilliant way to dispel those winter blues! \nApproximate timings:\nMorris Dancing from 6pm\nProcession to orchard 7.15pm \nFree entry. \nwww.thefleeceinn.co.uk/
URL:https://cotswoldtrekker.com/event/wassail-fleece-inn/
CATEGORIES:Festival
ATTACH;FMTTYPE=image/jpeg:https://cotswoldtrekker.com/wp-content/uploads/2017/11/wassail-pic-2013-Medium.jpg
END:VEVENT
BEGIN:VEVENT
DTSTART;VALUE=DATE:20180113
DTEND;VALUE=DATE:20180115
DTSTAMP:20260425T024444
CREATED:20180210T161714Z
LAST-MODIFIED:20180911T120011Z
UID:2808-1515801600-1515974399@cotswoldtrekker.com
SUMMARY:Stroud Wassail 2018
DESCRIPTION:With some 34 morris sides and mummers plays\, rumour has it that Stroud Wassail has become the largest Wassail in the UK. We can’t verify that\, but we were pretty impressed by the number of sides that came from places as diverse as Devon\, Suffolk\, Leicester\, Birmingham and Cardiff to join in. \nhttp://stroudwassail.com/
URL:https://cotswoldtrekker.com/event/stroud-wassail-2018/
CATEGORIES:Festival
ATTACH;FMTTYPE=image/jpeg:https://cotswoldtrekker.com/wp-content/uploads/2018/02/Stroud-Wassail.jpg
END:VEVENT
BEGIN:VEVENT
DTSTART;TZID=Europe/London:20171224T170000
DTEND;TZID=Europe/London:20171226T140000
DTSTAMP:20260425T024444
CREATED:20171105T181948Z
LAST-MODIFIED:20180114T111818Z
UID:2175-1514134800-1514296800@cotswoldtrekker.com
SUMMARY:Christmas @ The Fleece
DESCRIPTION:Morris\, Mumming and Music during Christmas\n Sunday 24th Dec\, 12:30pm – Tuesday 26th Dec\, 02:00pm\nFree Entry \nEnjoy a traditional Christmas here at the Fleece Inn. \nChristmas Eve from 5pm  with Father Christmas\, Traditional Mumming and Bretforton Silver Band \nPub open all day – limited food in the evening \n  \nChristmas Morning from 10.30am Bretforton Silver Band perform in the village Cross \nPub open 12noon – 2pm \n  \nBoxing Day\, Pebworth Morris and Shakespeare Mummers at lunchtime (12.30 – 2pm approx ) \nPub open all day – limited food offer. \nhttps://thefleeceinn.co.uk/events/morris-mumming-and-music-during-christmas
URL:https://cotswoldtrekker.com/event/christmas-the-fleece/
CATEGORIES:Festival,Music
ATTACH;FMTTYPE=image/jpeg:https://cotswoldtrekker.com/wp-content/uploads/2017/11/photo-5-Medium.jpg
END:VEVENT
BEGIN:VEVENT
DTSTART;TZID=Europe/London:20171201T170000
DTEND;TZID=Europe/London:20171201T230000
DTSTAMP:20260425T024444
CREATED:20171109T085611Z
LAST-MODIFIED:20180913T095248Z
UID:2209-1512147600-1512169200@cotswoldtrekker.com
SUMMARY:Stroud Goodwill Evening 2017
DESCRIPTION:Stroud Goodwill Evening 2017\nWhat better way to get into the Christmas spirit.  Support our local traders by paying a visit to the annual Stroud Christmas event.   Procession at 6pm at the Subscription rooms\, Christmas market\, food & drink\, entertainment and of course Santa! \n 
URL:https://cotswoldtrekker.com/event/stroud-goodwill-evening/
LOCATION:Subscription Rooms\, Stroud\, Glos\, United Kingdom
CATEGORIES:Festival
ATTACH;FMTTYPE=image/jpeg:https://cotswoldtrekker.com/wp-content/uploads/2017/11/SNJ_2015DEC04A_SP-024-Medium.jpg
END:VEVENT
BEGIN:VEVENT
DTSTART;VALUE=DATE:20170804
DTEND;VALUE=DATE:20170807
DTSTAMP:20260425T024444
CREATED:20170319T124126Z
LAST-MODIFIED:20170319T124126Z
UID:1773-1501804800-1502063999@cotswoldtrekker.com
SUMMARY:The Festival of British Eventing
DESCRIPTION:The Festival of British Eventing \nThe Festival of British Eventing takes place at Gatcombe Park\, the spectacular home of the Princess Royal and her family and incorporates the British Open\, Intermediate and Novice Championships\, as well as the Amateur Championship\, The Corinthian Cup.  As well as a weekend of top class eventing there will be a shopping village\, and arena attractions with entertainment for all the family. \nhttp://www.gatcombe-horse.co.uk/
URL:https://cotswoldtrekker.com/event/the-festival-of-british-eventing/
CATEGORIES:Festival
ATTACH;FMTTYPE=image/jpeg:https://cotswoldtrekker.com/wp-content/uploads/2017/03/Gatcombe-Park-Medium.jpg
END:VEVENT
BEGIN:VEVENT
DTSTART;VALUE=DATE:20170701
DTEND;VALUE=DATE:20170703
DTSTAMP:20260425T024444
CREATED:20170319T122334Z
LAST-MODIFIED:20170319T122334Z
UID:1769-1498867200-1499039999@cotswoldtrekker.com
SUMMARY:Cotswold Show
DESCRIPTION:Cotswold Show\nThe Cotswold Show successfully combines town and country pursuits to create a glorious medley of fun activities and displays. Spectacular main arena events\, country pursuits\, ancient crafts\, children’s entertainment\, festival of music and more than 200 trade stalls – it all adds up to an action packed\, family day out. And don’t forget dogs can join in the fun too. \nCirencester Park\, Stroud Road\, Cirencester\, Gloucestershire\, GL7 1XB \nhttp://www.cotswoldshow.co.uk/ \n 
URL:https://cotswoldtrekker.com/event/cotswold-show/
CATEGORIES:Festival
ATTACH;FMTTYPE=image/jpeg:https://cotswoldtrekker.com/wp-content/uploads/2017/03/Cotswold-Show-Medium.jpg
END:VEVENT
BEGIN:VEVENT
DTSTART;TZID=Europe/London:20170529T113000
DTEND;TZID=Europe/London:20170529T150000
DTSTAMP:20260425T024444
CREATED:20170205T123638Z
LAST-MODIFIED:20170205T123638Z
UID:1566-1496057400-1496070000@cotswoldtrekker.com
SUMMARY:Tetbury Woolsack Races
DESCRIPTION:Tetbury Woolsack Races \nTetbury Woolsack Races is an annual event held on the last bank holiday Monday in May that attracts crowds of up to 5000 people and raises money for local charities and good causes. \nThe races have no greater aim than for individuals and teams to demonstrate their strength and fitness by racing whilst carrying a sack of wool – up and down a hill that reaches a gradient of 1 in 4. Around this the town celebrates with a street fair that aims to please many with street entertainers\, local stalls and amusement rides. The many catering establishments in the town also join in to provide a very local fare for visitors. \n \nMore details can be found at the following website: \nhttp://www.tetburywoolsack.co.uk/ \n  \n 
URL:https://cotswoldtrekker.com/event/tetbury-woolsack-races/
CATEGORIES:Festival
ATTACH;FMTTYPE=image/jpeg:https://cotswoldtrekker.com/wp-content/uploads/2017/02/Tetbury_Woolsack_Races-Medium.jpg
END:VEVENT
BEGIN:VEVENT
DTSTART;TZID=Europe/London:20170528T133000
DTEND;TZID=Europe/London:20170528T170000
DTSTAMP:20260425T024444
CREATED:20170319T110514Z
LAST-MODIFIED:20170319T110636Z
UID:1746-1495978200-1495990800@cotswoldtrekker.com
SUMMARY:Frampton on Severn Open Gardens
DESCRIPTION:Frampton-on-Severn\, Gloucestershire Open Gardens\nSunday 28th May 2017\n1.30pm to 5.00pm \nFrom the walled garden of the Manor and the parkland of the Court\, through to pretty cottage gardens\, Frampton-on-Severn offers a fine selection to inspire everyone with an interest in gardening. All the gardens are situated around the longest village green in England. \nDelicious cream teas are available from the Manor and Buckholt House. \nAll garden entry proceeds go to Longfield\, formerly known as Cotswold Care Hospice\, cream teas to St. Mary’s Church. \nPlant sales:\nA large selection of plants will be on sale close to the car park with proceeds going to St. Mary’s Church\, Frampton. \nhttp://www.opengardens.co.uk/open_gardens.php?id=545
URL:https://cotswoldtrekker.com/event/frampton-severn-open-gardens/
CATEGORIES:Festival
ATTACH;FMTTYPE=image/jpeg:https://cotswoldtrekker.com/wp-content/uploads/2017/03/P1000082-Medium.jpg
END:VEVENT
BEGIN:VEVENT
DTSTART;TZID=Europe/London:20170528T100000
DTEND;TZID=Europe/London:20170528T150000
DTSTAMP:20260425T024444
CREATED:20170331T075536Z
LAST-MODIFIED:20170331T075536Z
UID:1818-1495965600-1495983600@cotswoldtrekker.com
SUMMARY:Minchinhampton Kite Festival
DESCRIPTION:Looking for something free to do with the family?  Dig your kites out and head to Minchinhampton common!  Here is all the information. \nGet outside with us in the fresh air at Minchinhampton Common and take part in our annual National Trust Kite Day. We’ll be celebrating this wonderful pastime with kite-making workshop. If you don’t own a kite\, National Trust outdoor kites and other products will be available for sale on the day. You’ll also be able to tick off another challenge in your ’50 Things To Do Before You’re 11 3/4′ scrapbook we will be giving out for free. \nhttps://www.nationaltrust.org.uk/events/17b4d1ac-1455-40a5-a87b-b27f25616c4f/pages/details
URL:https://cotswoldtrekker.com/event/minchinhampton-kite-festival/
LOCATION:Minchinhampton\, Minchinhampton Common\, Stroud\, Glos\, GL6 9EH\, United Kingdom
CATEGORIES:Festival
END:VEVENT
BEGIN:VEVENT
DTSTART;VALUE=DATE:20170520
DTEND;VALUE=DATE:20170522
DTSTAMP:20260425T024444
CREATED:20170211T133849Z
LAST-MODIFIED:20170211T134140Z
UID:1629-1495238400-1495411199@cotswoldtrekker.com
SUMMARY:9th Spring Steam & Ale Weekend
DESCRIPTION:North Cotswold CAMRA & GWR – 9th Spring Steam & Ale Weekend \n20th & 21st May 2017 – 10:30 to 19:00 (Sat) to 17:00 * (Sun) at Winchcombe & Toddington stations \n32 beer total\, 10 at Toddington. Hot and cold food with soft drinks available. \nCamping near station at Winchcombe. \nhttp://www.northcotswoldcamra.org.uk/
URL:https://cotswoldtrekker.com/event/9th-spring-steam-ale-weekend/
CATEGORIES:Festival
ATTACH;FMTTYPE=image/jpeg:https://cotswoldtrekker.com/wp-content/uploads/2017/02/Steam20weekend-Medium.jpg
END:VEVENT
BEGIN:VEVENT
DTSTART;TZID=Europe/London:20170513T140000
DTEND;TZID=Europe/London:20170513T170000
DTSTAMP:20260425T024444
CREATED:20170305T183627Z
LAST-MODIFIED:20170319T104113Z
UID:1711-1494684000-1494694800@cotswoldtrekker.com
SUMMARY:Randwick Wap
DESCRIPTION:The Randwick Wap is a series of events during spring which culminates in a traditional procession and festival dating back to the Middle Ages. Various theories exist on how it began\, although most villagers believe it was a celebration that followed the completion of building Randwick’s parish church. The Wap was revived by Randwick’s late vicar\, Rev. Nial Morrison\, in 1972 and has steadily grown to become one of the region’s leading annual events. \nIt is a great free afternoon out for families and we have visited on many occasions.  We enjoy the procession in the village and the events on the showground afterward \nHere is the website for more details \nhttp://www.randwick.org.uk/Wap/Wap.html \nIf it’s a nice day we highly recommend you go along to this free event.
URL:https://cotswoldtrekker.com/event/randwick-wap-2/
CATEGORIES:Festival
ATTACH;FMTTYPE=image/jpeg:https://cotswoldtrekker.com/wp-content/uploads/2017/03/IMG_1673-Medium.jpg
END:VEVENT
BEGIN:VEVENT
DTSTART;VALUE=DATE:20170426
DTEND;VALUE=DATE:20170502
DTSTAMP:20260425T024444
CREATED:20170319T120903Z
LAST-MODIFIED:20170319T120903Z
UID:1758-1493164800-1493683199@cotswoldtrekker.com
SUMMARY:Cheltenham Jazz Festival 2017
DESCRIPTION:Cheltenham Jazz Festival 2017 – #cheltjazzfest 26th Apr – 1st May 2017 \nCelebrating its 21st anniversary in 2017\, Cheltenham Jazz Festival is taking place across six days from April 26th – May 1st 2017. \nThe festival is hosted in a tented festival village in Cheltenham’s Montpellier Gardens\, featuring a Big Top stage\, the Jazz Arena\, a Family Tent featuring workshops\, performances and sing-alongs and a food and drink area surrounding the Free Stage. \nFurther details on the 2017 event below: \nMontpellier Gardens\, Montpellier Terrace\, Cheltenham\, Glos\, GL50 1AD \nhttp://www.cheltenhamfestivals.com/jazz/
URL:https://cotswoldtrekker.com/event/cheltenham-jazz-festival-2017/
CATEGORIES:Festival
ATTACH;FMTTYPE=image/jpeg:https://cotswoldtrekker.com/wp-content/uploads/2017/03/Cheltenham-Jazz-Medium.jpg
END:VEVENT
BEGIN:VEVENT
DTSTART;VALUE=DATE:20170331
DTEND;VALUE=DATE:20170402
DTSTAMP:20260425T024444
CREATED:20170211T112858Z
LAST-MODIFIED:20170211T113740Z
UID:1578-1490918400-1491091199@cotswoldtrekker.com
SUMMARY:5th Gloucester CAMRA Beer Festival
DESCRIPTION:5th Gloucester CAMRA Beer & Cider Festival \nOrganised by CAMRA in Gloucester who are passionate about real ale and cider\, the festival is about sharing that passion with others. With around 100 beers and over 30 ciders and perries on offer\, there will be something for everyone. Added to that is the artisan cheese bar offering a wide range of Gloucestershire cheese. \nLive music will entertain all on Friday evening and most of Saturday but there are also quiet spaces available for those who would prefer to chat to friends or sup their ale or cider in peace! \nTickets are priced at £16 and include admission\, a souvenir glass\, a festival programme and £10 of beer tokens. \nhttp://www.gloucesterbeerfestival.org.uk/
URL:https://cotswoldtrekker.com/event/5th-gloucester-camra-beer-festival/
CATEGORIES:Festival
ATTACH;FMTTYPE=image/jpeg:https://cotswoldtrekker.com/wp-content/uploads/2017/02/Beer-Festival-Medium.jpg
END:VEVENT
BEGIN:VEVENT
DTSTART;TZID=Europe/London:20170203T190000
DTEND;TZID=Europe/London:20170203T230000
DTSTAMP:20260425T024444
CREATED:20170105T200651Z
LAST-MODIFIED:20170105T200738Z
UID:1411-1486148400-1486162800@cotswoldtrekker.com
SUMMARY:Winter Beer Fest
DESCRIPTION:Tank Winter Beer Fest at Gloucester Brewery\, showcasing special high ABV beers\, Belgium imports\, barley wines & winter warmers. Tickets £7 on the door or get tickets online or in person for £5 \n30 beers\, street food & music \nhttp://www.gloucesterbrewery.co.uk/#events \nFriday 3rd & Saturday 4th February
URL:https://cotswoldtrekker.com/event/winter-beer-fest/
LOCATION:Tank\, Gloucester Brewery \, Gloucester Quays\, Gloucester\, United Kingdom
CATEGORIES:Festival
END:VEVENT
BEGIN:VEVENT
DTSTART;TZID=Europe/London:20170114T180000
DTEND;TZID=Europe/London:20170114T190000
DTSTAMP:20260425T024444
CREATED:20161127T120320Z
LAST-MODIFIED:20180114T112122Z
UID:1124-1484416800-1484420400@cotswoldtrekker.com
SUMMARY:Wassail! @ The Fleece Inn
DESCRIPTION:The Fleece Inn\, Bretforton \nVisit the Fleece Inn and join in the pagan tradition of waking the trees to encourage a good harvest for next year’s cider. \nFree entry. \nwww.thefleeceinn.co.uk/
URL:https://cotswoldtrekker.com/event/wassail-the-fleece-inn/
LOCATION:The Fleece Inn\, Bretforton
CATEGORIES:Festival
END:VEVENT
BEGIN:VEVENT
DTSTART;TZID=Europe/London:20161207T193000
DTEND;TZID=Europe/London:20161207T220000
DTSTAMP:20260425T024444
CREATED:20161127T114853Z
LAST-MODIFIED:20180114T112253Z
UID:1118-1481139000-1481148000@cotswoldtrekker.com
SUMMARY:£10 a Pint & a Pot
DESCRIPTION:The Fleece Inn\, Bretforton \nEnjoy a drink or two (the first one is on the house) with friends\, and have a go on the potter’s wheel throwing your own pot. No experience necessary. \n£10 A Pint & a Pot \nhttp://thefleeceinn.co.uk/
URL:https://cotswoldtrekker.com/event/10-a-pint-a-pot/
LOCATION:The Fleece Inn\, Bretforton
CATEGORIES:Festival
END:VEVENT
BEGIN:VEVENT
DTSTART;TZID=Europe/London:20161202T170000
DTEND;TZID=Europe/London:20161202T200000
DTSTAMP:20260425T024444
CREATED:20161029T160633Z
LAST-MODIFIED:20161113T171426Z
UID:933-1480698000-1480708800@cotswoldtrekker.com
SUMMARY:Goodwill Evening
DESCRIPTION:This year’s Stroud Goodwill Evening promises to be brimming with Christmas cheer\, with the highlight set to be the fabulous lantern procession. Visitors can enjoy a glass of sherry\, sip and nibble on mulled wine and mince pies from one of the local eateries\, whilst soaking up the sounds of a traditional band and choir\, and picking up gifts from more than 20 stalls. \nhttp://www.soglos.com/children-family/29623/Stroud-Goodwill-Evening \n 
URL:https://cotswoldtrekker.com/event/goodwill-evening/
CATEGORIES:Festival
ATTACH;FMTTYPE=image/jpeg:https://cotswoldtrekker.com/wp-content/uploads/2016/10/icon175x175_Christmas.jpg
END:VEVENT
BEGIN:VEVENT
DTSTART;VALUE=DATE:20161126
DTEND;VALUE=DATE:20161127
DTSTAMP:20260425T024444
CREATED:20161120T195339Z
LAST-MODIFIED:20161120T195339Z
UID:1114-1480118400-1480204799@cotswoldtrekker.com
SUMMARY:Christmas Open Air Ice Rink
DESCRIPTION:Visit Gloucester Quays to skate\, shop and experience the Victorian Christmas Market
URL:https://cotswoldtrekker.com/event/christmas-open-air-ice-rink/
CATEGORIES:Festival
END:VEVENT
BEGIN:VEVENT
DTSTART;VALUE=DATE:20161125
DTEND;VALUE=DATE:20161126
DTSTAMP:20260425T024444
CREATED:20161029T145741Z
LAST-MODIFIED:20161113T171513Z
UID:917-1480032000-1480118399@cotswoldtrekker.com
SUMMARY:Christmas @ Westonbirt
DESCRIPTION:Westonbirt Enchanted Christmas \nAn illuminated celebration of Westonbirt’s wonderful trees. Every Friday\, Saturday and Sunday evening from 25 November to 18 December 2016. \nAdvance booking required for all event nights. \nhttp://www.forestry.gov.uk/westonbirt-christmas \n 
URL:https://cotswoldtrekker.com/event/westonbirt-enchanted-christmas/
CATEGORIES:Festival
ATTACH;FMTTYPE=image/jpeg:https://cotswoldtrekker.com/wp-content/uploads/2016/10/icon175x175_Christmas.jpg
END:VEVENT
BEGIN:VEVENT
DTSTART;TZID=Europe/London:20161123T210000
DTEND;TZID=Europe/London:20161123T230000
DTSTAMP:20260425T024444
CREATED:20161120T195755Z
LAST-MODIFIED:20161120T195755Z
UID:1116-1479934800-1479942000@cotswoldtrekker.com
SUMMARY:Kevin Brown Gig at Café Rene
DESCRIPTION:Café Rene in Gloucester is the venue for Kevin Brown’s next gig.   If you like smooth blues music it’s a must for you and it’s free \nhttp://www.caferene.co.uk/
URL:https://cotswoldtrekker.com/event/kevin-brown-gig-at-cafe-rene/
CATEGORIES:Festival
END:VEVENT
BEGIN:VEVENT
DTSTART;TZID=Europe/London:20161116T073000
DTEND;TZID=Europe/London:20161116T091500
DTSTAMP:20260425T024444
CREATED:20161029T163641Z
LAST-MODIFIED:20161113T173003Z
UID:941-1479281400-1479287700@cotswoldtrekker.com
SUMMARY:Severn Bore
DESCRIPTION:4* early morning bore \nhttp://www.severn-bore.co.uk/2016_times.html
URL:https://cotswoldtrekker.com/event/severn-bore-2/
CATEGORIES:Festival
ATTACH;FMTTYPE=image/png:https://cotswoldtrekker.com/wp-content/uploads/2016/10/icon175x175_Surf.png
END:VEVENT
BEGIN:VEVENT
DTSTART;TZID=Europe/London:20161115T190000
DTEND;TZID=Europe/London:20161115T210000
DTSTAMP:20260425T024444
CREATED:20161029T163446Z
LAST-MODIFIED:20161113T172920Z
UID:939-1479236400-1479243600@cotswoldtrekker.com
SUMMARY:Severn Bore
DESCRIPTION:4* evening bore 7pm – 9pm – see timetable below \nhttp://www.severn-bore.co.uk/2016_times.html \n 
URL:https://cotswoldtrekker.com/event/severn-bore/
CATEGORIES:Festival
ATTACH;FMTTYPE=image/png:https://cotswoldtrekker.com/wp-content/uploads/2016/10/icon175x175_Surf.png
END:VEVENT
BEGIN:VEVENT
DTSTART;TZID=Europe/London:20161105T180000
DTEND;TZID=Europe/London:20161105T210000
DTSTAMP:20260425T024444
CREATED:20161029T155059Z
LAST-MODIFIED:20161029T155201Z
UID:929-1478368800-1478379600@cotswoldtrekker.com
SUMMARY:Gloucester Fireworks
DESCRIPTION:When: Saturday 5th November 2016 \nTime: Gates Open from 6.00 pm for Advanced Ticket sales. \nTickets: Available ONLINE from Now and in selected outlets from October 2016. \nTickets can be purchased at the Customer Service Desk of Gloucester Quays\, Gloucester Quays\, St Ann Way\, Gloucester\, GL1 5SH \nhttp://www.gloucesterquays.co.uk/ \nT: 01452 338933\, E: cservices@gloucesterquays.co.uk \nand \nThe Tourist Information Centre\, 28 Southgate Street\, Gloucester\, GL1 2DP. \nT: 01452 396572\, E: tourism@gloucester.gov.uk \nhttps://www.eventbrite.co.uk/e/gloucester-round-table-laser-and-fireworks-display-at-gloucester-docks-tickets-27404699193
URL:https://cotswoldtrekker.com/event/gloucester-quays-fireworks/
CATEGORIES:Festival
END:VEVENT
BEGIN:VEVENT
DTSTART;TZID=Europe/London:20161024T180000
DTEND;TZID=Europe/London:20161024T210000
DTSTAMP:20260425T024444
CREATED:20161017T100924Z
LAST-MODIFIED:20181022T101019Z
UID:820-1477332000-1477342800@cotswoldtrekker.com
SUMMARY:Five Valleys Fireworks (aka Ebley Fireworks)
DESCRIPTION:http://www.fivevalleysfireworks.org.uk/
URL:https://cotswoldtrekker.com/event/five-valleys-fireworks-aka-ebley/
CATEGORIES:Festival
END:VEVENT
END:VCALENDAR