BEGIN:VCALENDAR
VERSION:2.0
PRODID:-//Cotswold Trekker - Visit Cotswolds - ECPv6.15.11//NONSGML v1.0//EN
CALSCALE:GREGORIAN
METHOD:PUBLISH
X-ORIGINAL-URL:https://cotswoldtrekker.com
X-WR-CALDESC:Events for Cotswold Trekker - Visit Cotswolds
REFRESH-INTERVAL;VALUE=DURATION:PT1H
X-Robots-Tag:noindex
X-PUBLISHED-TTL:PT1H
BEGIN:VTIMEZONE
TZID:Europe/London
BEGIN:DAYLIGHT
TZOFFSETFROM:+0000
TZOFFSETTO:+0100
TZNAME:BST
DTSTART:20170326T010000
END:DAYLIGHT
BEGIN:STANDARD
TZOFFSETFROM:+0100
TZOFFSETTO:+0000
TZNAME:GMT
DTSTART:20171029T010000
END:STANDARD
BEGIN:DAYLIGHT
TZOFFSETFROM:+0000
TZOFFSETTO:+0100
TZNAME:BST
DTSTART:20180325T010000
END:DAYLIGHT
BEGIN:STANDARD
TZOFFSETFROM:+0100
TZOFFSETTO:+0000
TZNAME:GMT
DTSTART:20181028T010000
END:STANDARD
BEGIN:DAYLIGHT
TZOFFSETFROM:+0000
TZOFFSETTO:+0100
TZNAME:BST
DTSTART:20190331T010000
END:DAYLIGHT
BEGIN:STANDARD
TZOFFSETFROM:+0100
TZOFFSETTO:+0000
TZNAME:GMT
DTSTART:20191027T010000
END:STANDARD
BEGIN:DAYLIGHT
TZOFFSETFROM:+0000
TZOFFSETTO:+0100
TZNAME:BST
DTSTART:20200329T010000
END:DAYLIGHT
BEGIN:STANDARD
TZOFFSETFROM:+0100
TZOFFSETTO:+0000
TZNAME:GMT
DTSTART:20201025T010000
END:STANDARD
END:VTIMEZONE
BEGIN:VEVENT
DTSTART;TZID=Europe/London:20191021T180000
DTEND;TZID=Europe/London:20191021T210000
DTSTAMP:20260424T205002
CREATED:20180910T152002Z
LAST-MODIFIED:20181022T101745Z
UID:3549-1571680800-1571691600@cotswoldtrekker.com
SUMMARY:Five Valleys Fireworks 2019 (aka Ebley Fireworks)
DESCRIPTION:Five Valleys Fireworks 2019 (aka Ebley Fireworks)\nThis event has run for over 50 years and apart from giving the people of the Five Valleys an enjoyable evening\,\nhas been able to raise approaching £250\,000 which has been distributed to charities and good causes with a local impact. \nhttp://www.fivevalleysfireworks.org.uk/ \n 
URL:https://cotswoldtrekker.com/event/five-valleys-fireworks-2019-aka-ebley/
LOCATION:Stroud
CATEGORIES:Fair,Things to do
ATTACH;FMTTYPE=image/jpeg:https://cotswoldtrekker.com/wp-content/uploads/2018/09/Five-Valleys-Fireworks-Medium.jpg
END:VEVENT
BEGIN:VEVENT
DTSTART;TZID=Europe/London:20190908T090000
DTEND;TZID=Europe/London:20190908T170000
DTSTAMP:20260424T205002
CREATED:20180906T124524Z
LAST-MODIFIED:20180907T085244Z
UID:3332-1567933200-1567962000@cotswoldtrekker.com
SUMMARY:Frampton Country Fair 2019
DESCRIPTION:Frampton Country Fair 2019\nHeld in 30 acres of beautiful parkland of Frampton Court Estate\, this is one of the last truly traditional country fairs.\nJoin us in celebrating all that is great about the countryside and the people who work and live in it.\nThis year’s 34th Fair is on Sunday 8th September 2019. The gates open from 9.00am. Events start at 9.15 a.m. Dogs are very welcome\, on a fixed lead please. There are water points around the Showground. \nhttp://www.framptoncountryfair.co.uk/ \n 
URL:https://cotswoldtrekker.com/event/frampton-country-fair-2019/
CATEGORIES:Fair,Things to do
ATTACH;FMTTYPE=image/jpeg:https://cotswoldtrekker.com/wp-content/uploads/2018/08/Frampton-Country-Fair-Medium.jpg
END:VEVENT
BEGIN:VEVENT
DTSTART;VALUE=DATE:20190907
DTEND;VALUE=DATE:20190908
DTSTAMP:20260424T205002
CREATED:20180905T102655Z
LAST-MODIFIED:20180907T085805Z
UID:3289-1567814400-1567900799@cotswoldtrekker.com
SUMMARY:Newent Onion Fayre 2019
DESCRIPTION:Newent Onion Fayre 2019\nThree stages of live music\, Food Village\, street entertainers\, dancing\, fairground rides\, exhibitions\, lakeside events and over 150 stands with arts\, crafts and plants to name but a few.\nFrom fresh local food and produce\, lunches and snacks\, through to beers\, wines\, ciders and juice\, there’s a lot more than just onions!\nNewent Onion Fayre is a great day out for all the family.\nhttp://www.newentonionfayre.org/
URL:https://cotswoldtrekker.com/event/newent-onion-fayre-2019/
CATEGORIES:Fair,Things to do
ATTACH;FMTTYPE=image/jpeg:https://cotswoldtrekker.com/wp-content/uploads/2018/09/Newent-Onion-Fayre-Medium.jpg
END:VEVENT
BEGIN:VEVENT
DTSTART;TZID=Europe/London:20190826T110000
DTEND;TZID=Europe/London:20190826T180000
DTSTAMP:20260424T205002
CREATED:20180827T152636Z
LAST-MODIFIED:20180921T084935Z
UID:3210-1566817200-1566842400@cotswoldtrekker.com
SUMMARY:Football in the River\, Bourton-on-the-Water 2019
DESCRIPTION:Football in the River\, Bourton-on-the-Water 2019\nBank Holiday Monday sees the return of Bourton-on-the-Water’s Football in the River.\nThis event sees two teams of six from Bourton Rovers Football Club play a 30 minute football match in the usually calm waters of the River Windrush. Goalposts are set up in the river and players attempt to score as many goals as possible\, whilst getting all spectators as wet as possible in the process. This event has been taking place for over 100 years and attracts hundreds of spectators. \nhttp://www.thecityofgloucester.co.uk/whats-on/football-in-the-river-p903913
URL:https://cotswoldtrekker.com/event/football-in-the-river-bourton-on-the-water-2/
CATEGORIES:Fair,Things to do
ATTACH;FMTTYPE=image/jpeg:https://cotswoldtrekker.com/wp-content/uploads/2018/08/Football-in-the-River.jpg
END:VEVENT
BEGIN:VEVENT
DTSTART;TZID=Europe/London:20181022T180000
DTEND;TZID=Europe/London:20181022T210000
DTSTAMP:20260424T205002
CREATED:20180910T151435Z
LAST-MODIFIED:20181022T101547Z
UID:819-1540231200-1540242000@cotswoldtrekker.com
SUMMARY:Five Valleys Fireworks 2018 (aka Ebley Fireworks)
DESCRIPTION:Five Valleys Fireworks 2018 (aka Ebley Fireworks)\nThis event has run for over 50 years and apart from giving the people of the Five Valleys an enjoyable evening\,\nhas been able to raise approaching £250\,000 which has been distributed to charities and good causes with a local impact. \nhttp://www.fivevalleysfireworks.org.uk/
URL:https://cotswoldtrekker.com/event/five-valleys-fireworks-2018-aka-ebley/
LOCATION:Stroud
CATEGORIES:Fair,Things to do
ATTACH;FMTTYPE=image/jpeg:https://cotswoldtrekker.com/wp-content/uploads/2018/09/Five-Valleys-Fireworks-Medium.jpg
END:VEVENT
BEGIN:VEVENT
DTSTART;TZID=Europe/London:20180909T090000
DTEND;TZID=Europe/London:20180909T180000
DTSTAMP:20260424T205002
CREATED:20180827T155306Z
LAST-MODIFIED:20180907T085843Z
UID:3217-1536483600-1536516000@cotswoldtrekker.com
SUMMARY:Frampton Country Fair 2018
DESCRIPTION:Frampton Country Fair 2018\nHeld in 30 acres of beautiful parkland of Frampton Court Estate\, this is one of the last truly traditional country fairs.\n Join us in celebrating all that is great about the countryside and the people who work and live in it. \nThis year’s 33rd Fair is on Sunday 9th September 2018. The gates open from 9.00am. Events start at 9.15 a.m. Dogs are very welcome\, on a fixed lead please. There are water points around the Showground. \nhttp://www.framptoncountryfair.co.uk/ \n 
URL:https://cotswoldtrekker.com/event/frampton-country-fair/
CATEGORIES:Fair,Things to do
ATTACH;FMTTYPE=image/jpeg:https://cotswoldtrekker.com/wp-content/uploads/2018/08/Frampton-Country-Fair-Medium.jpg
END:VEVENT
BEGIN:VEVENT
DTSTART;VALUE=DATE:20180908
DTEND;VALUE=DATE:20180909
DTSTAMP:20260424T205002
CREATED:20180905T102203Z
LAST-MODIFIED:20180907T084945Z
UID:3279-1536364800-1536451199@cotswoldtrekker.com
SUMMARY:Newent Onion Fayre 2018
DESCRIPTION:Newent Onion Fayre 2018\nThree stages of live music\, Food Village\, street entertainers\, dancing\, fairground rides\, exhibitions\, lakeside events and over 150 stands with arts\, crafts and plants to name but a few.\nFrom fresh local food and produce\, lunches and snacks\, through to beers\, wines\, ciders and juice\, there’s a lot more than just onions!\nNewent Onion Fayre is a great day out for all the family.\nhttp://www.newentonionfayre.org/
URL:https://cotswoldtrekker.com/event/newent-onion-fayre-2018/
CATEGORIES:Fair,Things to do
ATTACH;FMTTYPE=image/jpeg:https://cotswoldtrekker.com/wp-content/uploads/2018/09/Newent-Onion-Fayre-Medium.jpg
END:VEVENT
BEGIN:VEVENT
DTSTART;TZID=Europe/London:20180827T110000
DTEND;TZID=Europe/London:20180827T180000
DTSTAMP:20260424T205002
CREATED:20180827T151605Z
LAST-MODIFIED:20180921T084857Z
UID:3199-1535367600-1535392800@cotswoldtrekker.com
SUMMARY:Football in the River\, Bourton-on-the-Water2018
DESCRIPTION:Football in the River\, Bourton-on-the-Water 2018\nBank Holiday Monday sees the return of Bourton-on-the-Water’s Football in the River.\nThis event sees two teams of six from Bourton Rovers Football Club play a 30 minute football match in the usually calm waters of the River Windrush. Goalposts are set up in the river and players attempt to score as many goals as possible\, whilst getting all spectators as wet as possible in the process. This event has been taking place for over 100 years and attracts hundreds of spectators. \nhttp://www.thecityofgloucester.co.uk/whats-on/football-in-the-river-p903913
URL:https://cotswoldtrekker.com/event/football-in-the-river-bourton-on-the-water/
CATEGORIES:Fair,Things to do
ATTACH;FMTTYPE=image/jpeg:https://cotswoldtrekker.com/wp-content/uploads/2018/08/Football-in-the-River.jpg
END:VEVENT
END:VCALENDAR