BEGIN:VCALENDAR
VERSION:2.0
PRODID:-//Cotswold Trekker - Visit Cotswolds - ECPv6.15.11//NONSGML v1.0//EN
CALSCALE:GREGORIAN
METHOD:PUBLISH
X-ORIGINAL-URL:https://cotswoldtrekker.com
X-WR-CALDESC:Events for Cotswold Trekker - Visit Cotswolds
REFRESH-INTERVAL;VALUE=DURATION:PT1H
X-Robots-Tag:noindex
X-PUBLISHED-TTL:PT1H
BEGIN:VTIMEZONE
TZID:Europe/London
BEGIN:DAYLIGHT
TZOFFSETFROM:+0000
TZOFFSETTO:+0100
TZNAME:BST
DTSTART:20160327T010000
END:DAYLIGHT
BEGIN:STANDARD
TZOFFSETFROM:+0100
TZOFFSETTO:+0000
TZNAME:GMT
DTSTART:20161030T010000
END:STANDARD
BEGIN:DAYLIGHT
TZOFFSETFROM:+0000
TZOFFSETTO:+0100
TZNAME:BST
DTSTART:20170326T010000
END:DAYLIGHT
BEGIN:STANDARD
TZOFFSETFROM:+0100
TZOFFSETTO:+0000
TZNAME:GMT
DTSTART:20171029T010000
END:STANDARD
BEGIN:DAYLIGHT
TZOFFSETFROM:+0000
TZOFFSETTO:+0100
TZNAME:BST
DTSTART:20180325T010000
END:DAYLIGHT
BEGIN:STANDARD
TZOFFSETFROM:+0100
TZOFFSETTO:+0000
TZNAME:GMT
DTSTART:20181028T010000
END:STANDARD
BEGIN:DAYLIGHT
TZOFFSETFROM:+0000
TZOFFSETTO:+0100
TZNAME:BST
DTSTART:20190331T010000
END:DAYLIGHT
BEGIN:STANDARD
TZOFFSETFROM:+0100
TZOFFSETTO:+0000
TZNAME:GMT
DTSTART:20191027T010000
END:STANDARD
BEGIN:DAYLIGHT
TZOFFSETFROM:+0000
TZOFFSETTO:+0100
TZNAME:BST
DTSTART:20200329T010000
END:DAYLIGHT
BEGIN:STANDARD
TZOFFSETFROM:+0100
TZOFFSETTO:+0000
TZNAME:GMT
DTSTART:20201025T010000
END:STANDARD
END:VTIMEZONE
BEGIN:VEVENT
DTSTART;VALUE=DATE:20190316
DTEND;VALUE=DATE:20190317
DTSTAMP:20260424T210255
CREATED:20190109T122658Z
LAST-MODIFIED:20190109T122658Z
UID:4117-1552694400-1552780799@cotswoldtrekker.com
SUMMARY:Wiltshire Wildcat Sportive 2019
DESCRIPTION:Wiltshire Wildcat Sportive 2019\nSaturday 16th March 2019. With three route options: (Epic\, Standard & Short) \nAn early-season sportive test lays in wait in the Sigma Sports Wiltshire Wildcat Sportive\, which criss-crosses the Medieval drovers’ trails the area is famous for\, passes through numerous Saxon villages\, and offers magnificent views across the Dorset Downs\, all in a day’s riding. \nStarting out from Salisbury Racecourse\, the beginning of the ride is easy going\, albeit following roads that are lined along a slight uphill rise\, before you face the toughest climb of the day early on. As you flit around the outskirts of Charlton\, the climb through Donhead Hollow is always tricky as it’s steep and drawn out\, but get this over with and you’re climb-free for a while yet. \nhttps://www.ukcyclingevents.co.uk/events/
URL:https://cotswoldtrekker.com/event/wiltshire-wildcat-sportive-2019/
CATEGORIES:Cycling,Sportive
ATTACH;FMTTYPE=image/png:https://cotswoldtrekker.com/wp-content/uploads/2019/01/Wiltshire-Wildcat-Sportive.png
END:VEVENT
BEGIN:VEVENT
DTSTART;TZID=Europe/London:20180902T000000
DTEND;TZID=Europe/London:20180909T170000
DTSTAMP:20260424T210255
CREATED:20171104T140245Z
LAST-MODIFIED:20180907T083926Z
UID:2102-1535846400-1536512400@cotswoldtrekker.com
SUMMARY:Tour of Britain 2018
DESCRIPTION:Tour of Britain – 2nd – 9th Sept 2018\nThe 2018 OVO Energy Tour of Britain\, taking place over a 1\,140-kilometre route\, will lead the world’s top riders from Pembrey Country Park on the Carmarthenshire coast in South Wales to the streets of Central London\, via Devon\, Bristol\, Warwickshire\, Cumbria and Nottinghamshire across eight stages of racing. \nFor more details visit: http://www.tourofbritain.co.uk/
URL:https://cotswoldtrekker.com/event/tour-britain-2018/
CATEGORIES:Cycling
ATTACH;FMTTYPE=image/jpeg:https://cotswoldtrekker.com/wp-content/uploads/2017/11/SW2_0375-1024x608.jpg
END:VEVENT
BEGIN:VEVENT
DTSTART;VALUE=DATE:20180513
DTEND;VALUE=DATE:20180514
DTSTAMP:20260424T210255
CREATED:20171110T085829Z
LAST-MODIFIED:20180913T075328Z
UID:2213-1526169600-1526255999@cotswoldtrekker.com
SUMMARY:BHF Cotswold BikeRide 2018
DESCRIPTION:British Heart Foundation (BHF) Cotswold Bike Ride 2018\nThis 30 mile bike ride around the Cotswold’s countryside is a perfect family ride. Or if you are looking for something hillier and tougher take on the 50 mile route. \nBoth rides are circular starting and finishing in Cheltenham and have numerous places to stop along the way for rest and refreshments. \nEnter here: \nhttps://www.bhf.org.uk/how-you-can-help/events/bike-rides
URL:https://cotswoldtrekker.com/event/bhf-cotswold-bike-ride/
LOCATION:cheltenham Racecourse\, Prestbury Park\, Cheltenham\, Glos\, GL50 4SH\, United Kingdom
CATEGORIES:Cycling
ATTACH;FMTTYPE=image/jpeg:https://cotswoldtrekker.com/wp-content/uploads/2017/11/cotswolds_group_640x320-Medium.jpg
END:VEVENT
BEGIN:VEVENT
DTSTART;TZID=Europe/London:20180402T070000
DTEND;TZID=Europe/London:20180402T170000
DTSTAMP:20260424T210255
CREATED:20171107T090140Z
LAST-MODIFIED:20171111T120116Z
UID:2200-1522652400-1522688400@cotswoldtrekker.com
SUMMARY:Cotswold Classic Sportive
DESCRIPTION:Entry for the 2018 Cotswold Spring Classic\, supporting Against Breast Cancer opens at 9am on Wednesday 8th November. \nThe Cotswold Spring Classic returns for it’s 10th edition in 2018\, bigger and better than ever. We’re proud to once again be teaming up with Against Breast Cancer to raise money to support their vital research. Breast Cancer affects so many people’s lives\, you’d be hard pushed to find someone that hasn’t had it inpact on them or their family. Last year saw the launch of our new 4-up Team Time Trial on Easter Sunday\, which will be back for 2018 – with an increased capacity to 100 teams. More details will follow shortly\, and the entry system for it will go live on Wednesday 15th November (a week after the sportive). \nWith three route options – 160km\, 100km and 55km through some of the best countryside the Cotswolds have to offer\, there’s something for everyone. The 55km route gives riders new to the sport\, or getting back on the bike after the long winter\, the perfect first ride back. And if you’re planning on riding either the 100km or 160km events you won’t need to decide on the route you’re taking until you get to the split point on the day \nHere is a link to the website: \nhttp://www.veloevents.co.uk/csc/
URL:https://cotswoldtrekker.com/event/cotswold-classic-sportive/
LOCATION:Deer Park School\, Stroud Road\, Cirencester\, Gloucestershire\, GL7 1XB\, United Kingdom
CATEGORIES:Cycling
ATTACH;FMTTYPE=image/jpeg:https://cotswoldtrekker.com/wp-content/uploads/2017/11/slider1-Medium.jpg
END:VEVENT
BEGIN:VEVENT
DTSTART;TZID=Europe/London:20180211T090000
DTEND;TZID=Europe/London:20180211T170000
DTSTAMP:20260424T210255
CREATED:20171107T085426Z
LAST-MODIFIED:20171111T095027Z
UID:2198-1518339600-1518368400@cotswoldtrekker.com
SUMMARY:Performance Cycles WinterMini Sportive
DESCRIPTION:We know that as the weather gets worse it gets harder and harder to get yourself out for those all important winter miles. So we’re pleased to say that the ever popular Performance Cycles Winter Mini Sportive series is back for another season. \nThis time round\, the series has been reduced to five ‘mini Sportives’ to take us through the winter – with one event a month taking place in October\, November\, December\, January and February \nEnter the events here: \n  \nhttp://www.performancecycles.co.uk/mini/
URL:https://cotswoldtrekker.com/event/performance-cycles-mini-sportive-2/
LOCATION:Waterland Outdoor Pursuits\, Lake 32\, Cotswold Water Park\, Spratsgate Lane\, Shorncoat\, Cirencester\, Glos\, GL7 6DF\, United Kingdom
CATEGORIES:Cycling
ATTACH;FMTTYPE=image/jpeg:https://cotswoldtrekker.com/wp-content/uploads/2017/11/MiniSportiveStart-Medium.jpg
END:VEVENT
BEGIN:VEVENT
DTSTART;TZID=Europe/London:20180114T090000
DTEND;TZID=Europe/London:20180114T170000
DTSTAMP:20260424T210255
CREATED:20171107T084756Z
LAST-MODIFIED:20171111T095105Z
UID:2196-1515920400-1515949200@cotswoldtrekker.com
SUMMARY:Performance Cycles WinterMini Sportive
DESCRIPTION:The summer is coming to an end\, which (sadly) means winter is just around the corner – and we know that as the weather gets worse it gets harder and harder to get yourself out for those all important winter miles. So we’re pleased to say that the ever popular Performance Cycles Winter Mini Sportive series is back for another season. \nThis time round\, the series has been reduced to five ‘mini Sportives’ to take us through the winter – with one event a month taking place in October\, November\, December\, January and February. \nEnter the events here: \nhttp://www.performancecycles.co.uk/mini/ \n  \n 
URL:https://cotswoldtrekker.com/event/performance-cycles-mini-sportive/
LOCATION:Waterland Outdoor Pursuits\, Lake 32\, Cotswold Water Park\, Spratsgate Lane\, Shorncoat\, Cirencester\, Glos\, GL7 6DF\, United Kingdom
CATEGORIES:Cycling
ATTACH;FMTTYPE=image/jpeg:https://cotswoldtrekker.com/wp-content/uploads/2017/11/MiniSportiveStart-Medium.jpg
END:VEVENT
BEGIN:VEVENT
DTSTART;TZID=Europe/London:20171210T090000
DTEND;TZID=Europe/London:20171210T170000
DTSTAMP:20260424T210255
CREATED:20171107T084350Z
LAST-MODIFIED:20171111T095152Z
UID:2194-1512896400-1512925200@cotswoldtrekker.com
SUMMARY:Performance Cycles WinterMini Sportive
DESCRIPTION:We know that as the weather gets worse it gets harder and harder to get yourself out for those all important winter miles. So we’re pleased to say that the ever popular Performance Cycles Winter Mini Sportive series is back for another season. \nThis time round\, the series has been reduced to five ‘mini Sportives’ to take us through the winter – with one event a month taking place in October\, November\, December\, January and February \nEnter the events here: \nhttp://www.performancecycles.co.uk/mini/
URL:https://cotswoldtrekker.com/event/performance-cycles-winter-mini-sportive-2/
LOCATION:Waterland Outdoor Pursuits\, Lake 32\, Cotswold Water Park\, Spratsgate Lane\, Shorncoat\, Cirencester\, Glos\, GL7 6DF\, United Kingdom
CATEGORIES:Cycling
ATTACH;FMTTYPE=image/jpeg:https://cotswoldtrekker.com/wp-content/uploads/2017/11/MiniSportiveStart-Medium.jpg
END:VEVENT
BEGIN:VEVENT
DTSTART;TZID=Europe/London:20171112T090000
DTEND;TZID=Europe/London:20171112T170000
DTSTAMP:20260424T210255
CREATED:20171107T083657Z
LAST-MODIFIED:20171111T095228Z
UID:2189-1510477200-1510506000@cotswoldtrekker.com
SUMMARY:Performance Cycles WinterMini Sportive
DESCRIPTION:We know that as the weather gets worse it gets harder and harder to get yourself out for those all important winter miles. So we’re pleased to say that the ever popular Performance Cycles Winter Mini Sportive series is back for another season. \nThis time round\, the series has been reduced to five ‘mini Sportives’ to take us through the winter – with one event a month taking place in October\, November\, December\, January and February \nTo enter the races visit the website below. \nhttp://www.performancecycles.co.uk/mini/
URL:https://cotswoldtrekker.com/event/performance-cycles-winter-mini-sportive/
LOCATION:Waterland Outdoor Pursuits\, Lake 32\, Cotswold Water Park\, Spratsgate Lane\, Shorncoat\, Cirencester\, Glos\, GL7 6DF\, United Kingdom
CATEGORIES:Cycling
ATTACH;FMTTYPE=image/jpeg:https://cotswoldtrekker.com/wp-content/uploads/2017/11/MiniSportiveStart-Medium.jpg
END:VEVENT
BEGIN:VEVENT
DTSTART;TZID=Europe/London:20170212T090000
DTEND;TZID=Europe/London:20170212T130000
DTSTAMP:20260424T210255
CREATED:20170114T112037Z
LAST-MODIFIED:20170205T134833Z
UID:1469-1486890000-1486904400@cotswoldtrekker.com
SUMMARY:Mad Dash MTB -X-Country Race
DESCRIPTION:This sounds like great fun for all of you who love getting dirty!! \nMAD Dash is a series of XC MTB Rides that will suit all age groups and abilities\, the aim is to keep riding the great hills in the Cotswolds during the winter months and encourage Novice and Younger Riders to join in the racing.  There will be prizes awarded at each race and then Series Prizes awarded after Race 4\, to those who have competed in a minimum of 3 races. \nThe Events \nThe events will be held on a lapped course approximately 4.5k long.  The routes are all-weather and will change for each Race.  There is something for everyone at The Ebworth Centre which is a marvellous National Trust location.  The events are aimed at all categories from children\, Youth & Junior and Adult.  We have a specific category for Novices to come and try the events. \nEnter here: \nhttps://madevents.wordpress.com/mad-dash-in-the-park/
URL:https://cotswoldtrekker.com/event/mad-dash-mtb-x-country-race/
LOCATION:The Ebworth Centre\, Nr Camp\, Bisley\, Glos\, GL6 7ES\, United Kingdom
CATEGORIES:Cycling
ATTACH;FMTTYPE=image/jpeg:https://cotswoldtrekker.com/wp-content/uploads/2017/01/dirty-dh-bike-Medium.jpg
END:VEVENT
END:VCALENDAR