BEGIN:VCALENDAR
VERSION:2.0
PRODID:-//Cotswold Trekker - Visit Cotswolds - ECPv6.15.11//NONSGML v1.0//EN
CALSCALE:GREGORIAN
METHOD:PUBLISH
X-WR-CALNAME:Cotswold Trekker - Visit Cotswolds
X-ORIGINAL-URL:https://cotswoldtrekker.com
X-WR-CALDESC:Events for Cotswold Trekker - Visit Cotswolds
REFRESH-INTERVAL;VALUE=DURATION:PT1H
X-Robots-Tag:noindex
X-PUBLISHED-TTL:PT1H
BEGIN:VTIMEZONE
TZID:Europe/London
BEGIN:DAYLIGHT
TZOFFSETFROM:+0000
TZOFFSETTO:+0100
TZNAME:BST
DTSTART:20160327T010000
END:DAYLIGHT
BEGIN:STANDARD
TZOFFSETFROM:+0100
TZOFFSETTO:+0000
TZNAME:GMT
DTSTART:20161030T010000
END:STANDARD
BEGIN:DAYLIGHT
TZOFFSETFROM:+0000
TZOFFSETTO:+0100
TZNAME:BST
DTSTART:20170326T010000
END:DAYLIGHT
BEGIN:STANDARD
TZOFFSETFROM:+0100
TZOFFSETTO:+0000
TZNAME:GMT
DTSTART:20171029T010000
END:STANDARD
BEGIN:DAYLIGHT
TZOFFSETFROM:+0000
TZOFFSETTO:+0100
TZNAME:BST
DTSTART:20180325T010000
END:DAYLIGHT
BEGIN:STANDARD
TZOFFSETFROM:+0100
TZOFFSETTO:+0000
TZNAME:GMT
DTSTART:20181028T010000
END:STANDARD
BEGIN:DAYLIGHT
TZOFFSETFROM:+0000
TZOFFSETTO:+0100
TZNAME:BST
DTSTART:20190331T010000
END:DAYLIGHT
BEGIN:STANDARD
TZOFFSETFROM:+0100
TZOFFSETTO:+0000
TZNAME:GMT
DTSTART:20191027T010000
END:STANDARD
BEGIN:DAYLIGHT
TZOFFSETFROM:+0000
TZOFFSETTO:+0100
TZNAME:BST
DTSTART:20200329T010000
END:DAYLIGHT
BEGIN:STANDARD
TZOFFSETFROM:+0100
TZOFFSETTO:+0000
TZNAME:GMT
DTSTART:20201025T010000
END:STANDARD
END:VTIMEZONE
BEGIN:VEVENT
DTSTART;VALUE=DATE:20190907
DTEND;VALUE=DATE:20190915
DTSTAMP:20260424T193325
CREATED:20180907T083806Z
LAST-MODIFIED:20190906T121019Z
UID:3351-1567814400-1568505599@cotswoldtrekker.com
SUMMARY:Tour of Britain 2019
DESCRIPTION:Tour of Britain – 7th – 14th Sept 2019\nThe 2019 OVO Energy Tour of Britain \nFor more details visit: http://www.tourofbritain.co.uk/
URL:https://cotswoldtrekker.com/event/tour-of-britain-2019/
CATEGORIES:Cycling
ATTACH;FMTTYPE=image/jpeg:https://cotswoldtrekker.com/wp-content/uploads/2017/11/SW2_0375-1024x608.jpg
END:VEVENT
BEGIN:VEVENT
DTSTART;TZID=Europe/London:20190824T080000
DTEND;TZID=Europe/London:20190915T170000
DTSTAMP:20260424T193325
CREATED:20181129T134456Z
LAST-MODIFIED:20190126T123515Z
UID:4029-1566633600-1568566800@cotswoldtrekker.com
SUMMARY:Vuelta a Espana 2019
DESCRIPTION:Vuelta a Espana 2019\nThe 74th edition of the Spanish race will take place between August 24th and September 15th 2019\, setting out from Salinas de Torrevieja and ending in Madrid. With a distance of 3\,272.2 km\, the competition includes eight uphill finishes\, five of which are new. \nRead more about the route of the 2019 Vuelta a Espana here: https://www.lavuelta.es/en/ \nGrand Tour Cycling 2019\n\nItaly – Giro d’Italia – 11/05/2019 – 02/06/2019 – for more details see website: http://www.giroditalia.it/eng/big-start-2019/\nFrance – Tour de France – 06/07/2019 – 28/07/2019 – for more details see website: https://www.letour.fr/en/\nSpain – Vuelta a Espana – 24/08/2019 – 15/09/2019 – for more details see website: https://www.lavuelta.es/en/\n\nRead about our great trip to watch the TDF 2017 here: https://cotswoldtrekker.com/le-tour-de-france-2017/
URL:https://cotswoldtrekker.com/event/vuelta-a-espana-2019/
CATEGORIES:Cycling
ATTACH;FMTTYPE=image/jpeg:https://cotswoldtrekker.com/wp-content/uploads/2018/11/vuelta2017-Medium.jpg
END:VEVENT
BEGIN:VEVENT
DTSTART;VALUE=DATE:20190824
DTEND;VALUE=DATE:20190825
DTSTAMP:20260424T193325
CREATED:20190109T124154Z
LAST-MODIFIED:20190109T124154Z
UID:4120-1566604800-1566691199@cotswoldtrekker.com
SUMMARY:Ride Warwickshire Sportive 2019
DESCRIPTION:Ride Warwickshire Sportive 2019\nNew for 2019! Saturday 24th August 2019 \nStarting at Warwick Racecourse\, the Ride Warwickshire sportive takes you on a journey through the heart of Shakespeare’s England.\nThis summer ride explores the most scenic villages in the county whilst gliding along some of the Midlands best cycling roads. Don’t be fooled into thinking it’s all plain sailing though as there are of course a few testing climbs thrown in for good measure. With three routes suitable for all levels of sportive rider and an event centre that’s easily accessible from most regions\, why not rally a few friends and make a weekend of it? \nRoute distances: \n\nEpic: 101-miles\nStandard: 80-miles\nShort: 34-miles\n\nhttps://www.ukcyclingevents.co.uk/events/
URL:https://cotswoldtrekker.com/event/ride-warwickshire-sportive-2019/
CATEGORIES:Cycling,Sportive
ATTACH;FMTTYPE=image/png:https://cotswoldtrekker.com/wp-content/uploads/2019/01/Ride-Warwickshire-Sportive.png
END:VEVENT
BEGIN:VEVENT
DTSTART;VALUE=DATE:20190804
DTEND;VALUE=DATE:20190805
DTSTAMP:20260424T193325
CREATED:20190201T112924Z
LAST-MODIFIED:20190201T112924Z
UID:4183-1564876800-1564963199@cotswoldtrekker.com
SUMMARY:RideLondon - Surrey 100 2019
DESCRIPTION:RideLondon – Surrey 100 2019\nCelebrating the legacy for cycling created by the London 2012 Olympic and Paralympic Games\, Prudential RideLondon-Surrey 100 starts from 05:45 in Queen Elizabeth Olympic Park\, then follows a 100-mile route on closed roads through the capital and into Surrey’s stunning countryside. \nWith leg-testing climbs and a route made famous by the world’s best cyclists at the London 2012 Olympics\, it’s a truly spectacular event for all involved. The Prudential RideLondon-Surrey 100 finishes on The Mall in central London\, shortly before 150 professional cyclists race in the Prudential RideLondon-Surrey Classic on a similar route. \nThe 2019 Prudential RideLondon-Surrey 100 will take place on Sunday 4 August. \nhttps://www.prudentialridelondon.co.uk/events/100/
URL:https://cotswoldtrekker.com/event/ridelondon-surrey-100-2019/
CATEGORIES:Cycling,Sportive
ATTACH;FMTTYPE=image/jpeg:https://cotswoldtrekker.com/wp-content/uploads/2019/02/RideLondon-Surrey-100-Medium.jpg
END:VEVENT
BEGIN:VEVENT
DTSTART;VALUE=DATE:20190720
DTEND;VALUE=DATE:20190721
DTSTAMP:20260424T193325
CREATED:20190103T115928Z
LAST-MODIFIED:20190103T115928Z
UID:4093-1563580800-1563667199@cotswoldtrekker.com
SUMMARY:Ride Cotswolds Sportive 2019
DESCRIPTION:Ride Cotswolds Sportive 2019\nNew for 2019! With three route options: (Epic\, Standard & Short) \nThrough some of the best countryside the Cotswolds has to offer\, there’s something for every rider. A selection of great climbs and miles of rolling rural roads provides the perfect mix for an enjoyable day in the saddle. It will be hard to find a better route in the area – it’s the perfect mid-summer sportive. \nPut the date in your diary\, grab your friends and family and make the most of this area of outstanding natural beauty. \nhttps://www.ukcyclingevents.co.uk/events/
URL:https://cotswoldtrekker.com/event/ride-cotswolds-sportive-2019/
CATEGORIES:Cycling,Sportive
ATTACH;FMTTYPE=image/png:https://cotswoldtrekker.com/wp-content/uploads/2019/01/Ride-Cotswolds-Sportive.png
END:VEVENT
BEGIN:VEVENT
DTSTART;TZID=Europe/London:20190706T080000
DTEND;TZID=Europe/London:20190728T170000
DTSTAMP:20260424T193325
CREATED:20181129T130113Z
LAST-MODIFIED:20190126T124346Z
UID:4014-1562400000-1564333200@cotswoldtrekker.com
SUMMARY:Tour de France 2019
DESCRIPTION:Tour de France 2019\nThe 2019 Tour de France will start on Saturday 6th July from Brussels. Among other aspects\, the route in 2019 holds a tough mountain programme in store\, with three finishes above 2\,000 metres in altitude\, at the Col du Tourmalet pass\, Tignes and Val Thorens\, which is unprecedented in the history of the Grande Boucle. \nRead more about the route of the 2019 Tour de France here: https://www.letour.fr/en/ \nGrand Tour Cycling 2019\n\nItaly – Giro d’Italia – 11/05/2019 – 02/06/2019 – for more details see website: http://www.giroditalia.it/eng/big-start-2019/\nFrance – Tour de France – 06/07/2019 – 28/07/2019 – for more details see website: https://www.letour.fr/en/\nSpain – Vuelta a Espana – 24/08/2019 – 15/09/2019 – for more details see website: https://www.lavuelta.es/en/\n\nRead about our great trip to watch the TDF 2017 here: https://cotswoldtrekker.com/le-tour-de-france-2017/
URL:https://cotswoldtrekker.com/event/tour-de-france-2019/
CATEGORIES:Cycling
ATTACH;FMTTYPE=image/jpeg:https://cotswoldtrekker.com/wp-content/uploads/2017/11/DSC05552-Crop2-Medium.jpg
END:VEVENT
BEGIN:VEVENT
DTSTART;VALUE=DATE:20190602
DTEND;VALUE=DATE:20190603
DTSTAMP:20260424T193325
CREATED:20190109T120656Z
LAST-MODIFIED:20190109T120905Z
UID:4111-1559433600-1559519999@cotswoldtrekker.com
SUMMARY:Malvern Mad Hatter Sportive 2019
DESCRIPTION:Malvern Mad Hatter Sportive 2019\nSunday 2nd June 2019. With three route options: (Epic\, Standard & Short) \nAs a mid-summer sportive test\, the Malvern Mad Hatter pretty much has it all. Weaving around rural roads shared between the three counties of Worcestershire\, Herefordshire and Gloucestershire\, the route will give you tough climbs\, fast descents and amazing views across the Brecon Beacons\, Black Mountains of Wales and more. \nhttps://www.ukcyclingevents.co.uk/events/
URL:https://cotswoldtrekker.com/event/malvern-mad-hatter-sportive-2019/
CATEGORIES:Cycling,Sportive
ATTACH;FMTTYPE=image/png:https://cotswoldtrekker.com/wp-content/uploads/2019/01/Malvern-Mad-Hatter-Sportive-2.png
END:VEVENT
BEGIN:VEVENT
DTSTART;TZID=Europe/London:20190519T073000
DTEND;TZID=Europe/London:20190519T110000
DTSTAMP:20260424T193325
CREATED:20190102T162021Z
LAST-MODIFIED:20190102T162248Z
UID:4066-1558251000-1558263600@cotswoldtrekker.com
SUMMARY:Mira Showers Triathlon 2019
DESCRIPTION:Mira Showers Triathlon 2019\nThis event is a very similar experience to the Cheltenham Triathlon but incorporates a shorter swim\, longer cycle route and a slightly different run route.\nAs a slight change to the team entry\, teams of 3 required (Cheltenham Triathlon – teams of 6). This is where all three team members complete the swim\, cycle and run individually and the combined time produces the team winners.\nEntry closes midday Thursday 16th May 2019.\nThe distances:\nSwim 400m in the lido\nCycle 17.5 Km\nRun 2.8 Km \nhttps://www.sandfordparkslido.org.uk/events \n 
URL:https://cotswoldtrekker.com/event/mira-showers-triathlon-2019/
CATEGORIES:Cycling,Running,Swimming,Triathlon
ATTACH;FMTTYPE=image/png:https://cotswoldtrekker.com/wp-content/uploads/2019/01/Mira-Showers-Triathlon.png
END:VEVENT
BEGIN:VEVENT
DTSTART;VALUE=DATE:20190512
DTEND;VALUE=DATE:20190513
DTSTAMP:20260424T193325
CREATED:20180913T082538Z
LAST-MODIFIED:20180913T082538Z
UID:3651-1557619200-1557705599@cotswoldtrekker.com
SUMMARY:BHF Cotswold BikeRide 2019
DESCRIPTION:British Heart Foundation (BHF) Cotswold Bike Ride 2019\nThis 30 mile bike ride around the Cotswold’s countryside is a perfect family ride. Or if you are looking for something hillier and tougher take on the 50 mile route.\nBoth rides are circular starting and finishing in Cheltenham and have numerous places to stop along the way for rest and refreshments.\nEnter here: \nhttps://www.bhf.org.uk/how-you-can-help/events/bike-rides/cotswolds-bike-ride
URL:https://cotswoldtrekker.com/event/bhf-cotswold-bikeride-2019/
CATEGORIES:Cycling
ATTACH;FMTTYPE=image/jpeg:https://cotswoldtrekker.com/wp-content/uploads/2017/11/cotswolds_group_640x320-Medium.jpg
END:VEVENT
BEGIN:VEVENT
DTSTART;TZID=Europe/London:20190511T080000
DTEND;TZID=Europe/London:20190602T170000
DTSTAMP:20260424T193325
CREATED:20181129T132454Z
LAST-MODIFIED:20190126T123725Z
UID:4023-1557561600-1559494800@cotswoldtrekker.com
SUMMARY:Giro d'Italia 2019
DESCRIPTION:Giro d’Italia 2019\nStage 1 of the 2019 Giro d’Italia will start off in Bologna on Saturday 11th of May. The first Grand Tour of 2019 totals 58 kilometres of time trialing and takes in iconic climbs up the Gavia and Mortirolo\, but also includes the unprecedented Colle del Nivolet. \nThe date of the Big Start is Saturday\, 11 May\, while the last stage – another ITT – will take place on Sunday\, 2 June\, in Verona. \nRead more about the route of the 2019 Giro d’Italia here: http://www.giroditalia.it/eng/big-start-2019/ \nGrand Tour Cycling 2019\n\nItaly – Giro d’Italia – 11/05/2019 – 02/06/2019 – for more details see website: http://www.giroditalia.it/eng/big-start-2019/\nFrance – Tour de France – 06/07/2019 – 28/07/2019 – for more details see website: https://www.letour.fr/en/\nSpain – Vuelta a Espana – 24/08/2019 – 15/09/2019 – for more details see website: https://www.lavuelta.es/en/\n\nRead about our great trip to watch the TDF 2017 here: https://cotswoldtrekker.com/le-tour-de-france-2017/
URL:https://cotswoldtrekker.com/event/giro-ditalia-2019/
CATEGORIES:Cycling
ATTACH;FMTTYPE=image/jpeg:https://cotswoldtrekker.com/wp-content/uploads/2018/11/FroomeStage20-Medium.jpg
END:VEVENT
BEGIN:VEVENT
DTSTART;VALUE=DATE:20190316
DTEND;VALUE=DATE:20190317
DTSTAMP:20260424T193325
CREATED:20190109T122658Z
LAST-MODIFIED:20190109T122658Z
UID:4117-1552694400-1552780799@cotswoldtrekker.com
SUMMARY:Wiltshire Wildcat Sportive 2019
DESCRIPTION:Wiltshire Wildcat Sportive 2019\nSaturday 16th March 2019. With three route options: (Epic\, Standard & Short) \nAn early-season sportive test lays in wait in the Sigma Sports Wiltshire Wildcat Sportive\, which criss-crosses the Medieval drovers’ trails the area is famous for\, passes through numerous Saxon villages\, and offers magnificent views across the Dorset Downs\, all in a day’s riding. \nStarting out from Salisbury Racecourse\, the beginning of the ride is easy going\, albeit following roads that are lined along a slight uphill rise\, before you face the toughest climb of the day early on. As you flit around the outskirts of Charlton\, the climb through Donhead Hollow is always tricky as it’s steep and drawn out\, but get this over with and you’re climb-free for a while yet. \nhttps://www.ukcyclingevents.co.uk/events/
URL:https://cotswoldtrekker.com/event/wiltshire-wildcat-sportive-2019/
CATEGORIES:Cycling,Sportive
ATTACH;FMTTYPE=image/png:https://cotswoldtrekker.com/wp-content/uploads/2019/01/Wiltshire-Wildcat-Sportive.png
END:VEVENT
BEGIN:VEVENT
DTSTART;TZID=Europe/London:20180902T000000
DTEND;TZID=Europe/London:20180909T170000
DTSTAMP:20260424T193325
CREATED:20171104T140245Z
LAST-MODIFIED:20180907T083926Z
UID:2102-1535846400-1536512400@cotswoldtrekker.com
SUMMARY:Tour of Britain 2018
DESCRIPTION:Tour of Britain – 2nd – 9th Sept 2018\nThe 2018 OVO Energy Tour of Britain\, taking place over a 1\,140-kilometre route\, will lead the world’s top riders from Pembrey Country Park on the Carmarthenshire coast in South Wales to the streets of Central London\, via Devon\, Bristol\, Warwickshire\, Cumbria and Nottinghamshire across eight stages of racing. \nFor more details visit: http://www.tourofbritain.co.uk/
URL:https://cotswoldtrekker.com/event/tour-britain-2018/
CATEGORIES:Cycling
ATTACH;FMTTYPE=image/jpeg:https://cotswoldtrekker.com/wp-content/uploads/2017/11/SW2_0375-1024x608.jpg
END:VEVENT
BEGIN:VEVENT
DTSTART;VALUE=DATE:20180513
DTEND;VALUE=DATE:20180514
DTSTAMP:20260424T193325
CREATED:20171110T085829Z
LAST-MODIFIED:20180913T075328Z
UID:2213-1526169600-1526255999@cotswoldtrekker.com
SUMMARY:BHF Cotswold BikeRide 2018
DESCRIPTION:British Heart Foundation (BHF) Cotswold Bike Ride 2018\nThis 30 mile bike ride around the Cotswold’s countryside is a perfect family ride. Or if you are looking for something hillier and tougher take on the 50 mile route. \nBoth rides are circular starting and finishing in Cheltenham and have numerous places to stop along the way for rest and refreshments. \nEnter here: \nhttps://www.bhf.org.uk/how-you-can-help/events/bike-rides
URL:https://cotswoldtrekker.com/event/bhf-cotswold-bike-ride/
LOCATION:cheltenham Racecourse\, Prestbury Park\, Cheltenham\, Glos\, GL50 4SH\, United Kingdom
CATEGORIES:Cycling
ATTACH;FMTTYPE=image/jpeg:https://cotswoldtrekker.com/wp-content/uploads/2017/11/cotswolds_group_640x320-Medium.jpg
END:VEVENT
BEGIN:VEVENT
DTSTART;TZID=Europe/London:20180402T070000
DTEND;TZID=Europe/London:20180402T170000
DTSTAMP:20260424T193325
CREATED:20171107T090140Z
LAST-MODIFIED:20171111T120116Z
UID:2200-1522652400-1522688400@cotswoldtrekker.com
SUMMARY:Cotswold Classic Sportive
DESCRIPTION:Entry for the 2018 Cotswold Spring Classic\, supporting Against Breast Cancer opens at 9am on Wednesday 8th November. \nThe Cotswold Spring Classic returns for it’s 10th edition in 2018\, bigger and better than ever. We’re proud to once again be teaming up with Against Breast Cancer to raise money to support their vital research. Breast Cancer affects so many people’s lives\, you’d be hard pushed to find someone that hasn’t had it inpact on them or their family. Last year saw the launch of our new 4-up Team Time Trial on Easter Sunday\, which will be back for 2018 – with an increased capacity to 100 teams. More details will follow shortly\, and the entry system for it will go live on Wednesday 15th November (a week after the sportive). \nWith three route options – 160km\, 100km and 55km through some of the best countryside the Cotswolds have to offer\, there’s something for everyone. The 55km route gives riders new to the sport\, or getting back on the bike after the long winter\, the perfect first ride back. And if you’re planning on riding either the 100km or 160km events you won’t need to decide on the route you’re taking until you get to the split point on the day \nHere is a link to the website: \nhttp://www.veloevents.co.uk/csc/
URL:https://cotswoldtrekker.com/event/cotswold-classic-sportive/
LOCATION:Deer Park School\, Stroud Road\, Cirencester\, Gloucestershire\, GL7 1XB\, United Kingdom
CATEGORIES:Cycling
ATTACH;FMTTYPE=image/jpeg:https://cotswoldtrekker.com/wp-content/uploads/2017/11/slider1-Medium.jpg
END:VEVENT
BEGIN:VEVENT
DTSTART;TZID=Europe/London:20180211T090000
DTEND;TZID=Europe/London:20180211T170000
DTSTAMP:20260424T193325
CREATED:20171107T085426Z
LAST-MODIFIED:20171111T095027Z
UID:2198-1518339600-1518368400@cotswoldtrekker.com
SUMMARY:Performance Cycles WinterMini Sportive
DESCRIPTION:We know that as the weather gets worse it gets harder and harder to get yourself out for those all important winter miles. So we’re pleased to say that the ever popular Performance Cycles Winter Mini Sportive series is back for another season. \nThis time round\, the series has been reduced to five ‘mini Sportives’ to take us through the winter – with one event a month taking place in October\, November\, December\, January and February \nEnter the events here: \n  \nhttp://www.performancecycles.co.uk/mini/
URL:https://cotswoldtrekker.com/event/performance-cycles-mini-sportive-2/
LOCATION:Waterland Outdoor Pursuits\, Lake 32\, Cotswold Water Park\, Spratsgate Lane\, Shorncoat\, Cirencester\, Glos\, GL7 6DF\, United Kingdom
CATEGORIES:Cycling
ATTACH;FMTTYPE=image/jpeg:https://cotswoldtrekker.com/wp-content/uploads/2017/11/MiniSportiveStart-Medium.jpg
END:VEVENT
BEGIN:VEVENT
DTSTART;TZID=Europe/London:20180114T090000
DTEND;TZID=Europe/London:20180114T170000
DTSTAMP:20260424T193325
CREATED:20171107T084756Z
LAST-MODIFIED:20171111T095105Z
UID:2196-1515920400-1515949200@cotswoldtrekker.com
SUMMARY:Performance Cycles WinterMini Sportive
DESCRIPTION:The summer is coming to an end\, which (sadly) means winter is just around the corner – and we know that as the weather gets worse it gets harder and harder to get yourself out for those all important winter miles. So we’re pleased to say that the ever popular Performance Cycles Winter Mini Sportive series is back for another season. \nThis time round\, the series has been reduced to five ‘mini Sportives’ to take us through the winter – with one event a month taking place in October\, November\, December\, January and February. \nEnter the events here: \nhttp://www.performancecycles.co.uk/mini/ \n  \n 
URL:https://cotswoldtrekker.com/event/performance-cycles-mini-sportive/
LOCATION:Waterland Outdoor Pursuits\, Lake 32\, Cotswold Water Park\, Spratsgate Lane\, Shorncoat\, Cirencester\, Glos\, GL7 6DF\, United Kingdom
CATEGORIES:Cycling
ATTACH;FMTTYPE=image/jpeg:https://cotswoldtrekker.com/wp-content/uploads/2017/11/MiniSportiveStart-Medium.jpg
END:VEVENT
BEGIN:VEVENT
DTSTART;TZID=Europe/London:20171210T090000
DTEND;TZID=Europe/London:20171210T170000
DTSTAMP:20260424T193325
CREATED:20171107T084350Z
LAST-MODIFIED:20171111T095152Z
UID:2194-1512896400-1512925200@cotswoldtrekker.com
SUMMARY:Performance Cycles WinterMini Sportive
DESCRIPTION:We know that as the weather gets worse it gets harder and harder to get yourself out for those all important winter miles. So we’re pleased to say that the ever popular Performance Cycles Winter Mini Sportive series is back for another season. \nThis time round\, the series has been reduced to five ‘mini Sportives’ to take us through the winter – with one event a month taking place in October\, November\, December\, January and February \nEnter the events here: \nhttp://www.performancecycles.co.uk/mini/
URL:https://cotswoldtrekker.com/event/performance-cycles-winter-mini-sportive-2/
LOCATION:Waterland Outdoor Pursuits\, Lake 32\, Cotswold Water Park\, Spratsgate Lane\, Shorncoat\, Cirencester\, Glos\, GL7 6DF\, United Kingdom
CATEGORIES:Cycling
ATTACH;FMTTYPE=image/jpeg:https://cotswoldtrekker.com/wp-content/uploads/2017/11/MiniSportiveStart-Medium.jpg
END:VEVENT
BEGIN:VEVENT
DTSTART;TZID=Europe/London:20171112T090000
DTEND;TZID=Europe/London:20171112T170000
DTSTAMP:20260424T193325
CREATED:20171107T083657Z
LAST-MODIFIED:20171111T095228Z
UID:2189-1510477200-1510506000@cotswoldtrekker.com
SUMMARY:Performance Cycles WinterMini Sportive
DESCRIPTION:We know that as the weather gets worse it gets harder and harder to get yourself out for those all important winter miles. So we’re pleased to say that the ever popular Performance Cycles Winter Mini Sportive series is back for another season. \nThis time round\, the series has been reduced to five ‘mini Sportives’ to take us through the winter – with one event a month taking place in October\, November\, December\, January and February \nTo enter the races visit the website below. \nhttp://www.performancecycles.co.uk/mini/
URL:https://cotswoldtrekker.com/event/performance-cycles-winter-mini-sportive/
LOCATION:Waterland Outdoor Pursuits\, Lake 32\, Cotswold Water Park\, Spratsgate Lane\, Shorncoat\, Cirencester\, Glos\, GL7 6DF\, United Kingdom
CATEGORIES:Cycling
ATTACH;FMTTYPE=image/jpeg:https://cotswoldtrekker.com/wp-content/uploads/2017/11/MiniSportiveStart-Medium.jpg
END:VEVENT
BEGIN:VEVENT
DTSTART;TZID=Europe/London:20170212T090000
DTEND;TZID=Europe/London:20170212T130000
DTSTAMP:20260424T193325
CREATED:20170114T112037Z
LAST-MODIFIED:20170205T134833Z
UID:1469-1486890000-1486904400@cotswoldtrekker.com
SUMMARY:Mad Dash MTB -X-Country Race
DESCRIPTION:This sounds like great fun for all of you who love getting dirty!! \nMAD Dash is a series of XC MTB Rides that will suit all age groups and abilities\, the aim is to keep riding the great hills in the Cotswolds during the winter months and encourage Novice and Younger Riders to join in the racing.  There will be prizes awarded at each race and then Series Prizes awarded after Race 4\, to those who have competed in a minimum of 3 races. \nThe Events \nThe events will be held on a lapped course approximately 4.5k long.  The routes are all-weather and will change for each Race.  There is something for everyone at The Ebworth Centre which is a marvellous National Trust location.  The events are aimed at all categories from children\, Youth & Junior and Adult.  We have a specific category for Novices to come and try the events. \nEnter here: \nhttps://madevents.wordpress.com/mad-dash-in-the-park/
URL:https://cotswoldtrekker.com/event/mad-dash-mtb-x-country-race/
LOCATION:The Ebworth Centre\, Nr Camp\, Bisley\, Glos\, GL6 7ES\, United Kingdom
CATEGORIES:Cycling
ATTACH;FMTTYPE=image/jpeg:https://cotswoldtrekker.com/wp-content/uploads/2017/01/dirty-dh-bike-Medium.jpg
END:VEVENT
END:VCALENDAR