BEGIN:VCALENDAR
VERSION:2.0
PRODID:-//Cotswold Trekker - Visit Cotswolds - ECPv6.15.11//NONSGML v1.0//EN
CALSCALE:GREGORIAN
METHOD:PUBLISH
X-WR-CALNAME:Cotswold Trekker - Visit Cotswolds
X-ORIGINAL-URL:https://cotswoldtrekker.com
X-WR-CALDESC:Events for Cotswold Trekker - Visit Cotswolds
REFRESH-INTERVAL;VALUE=DURATION:PT1H
X-Robots-Tag:noindex
X-PUBLISHED-TTL:PT1H
BEGIN:VTIMEZONE
TZID:Europe/London
BEGIN:DAYLIGHT
TZOFFSETFROM:+0000
TZOFFSETTO:+0100
TZNAME:BST
DTSTART:20150329T010000
END:DAYLIGHT
BEGIN:STANDARD
TZOFFSETFROM:+0100
TZOFFSETTO:+0000
TZNAME:GMT
DTSTART:20151025T010000
END:STANDARD
BEGIN:DAYLIGHT
TZOFFSETFROM:+0000
TZOFFSETTO:+0100
TZNAME:BST
DTSTART:20160327T010000
END:DAYLIGHT
BEGIN:STANDARD
TZOFFSETFROM:+0100
TZOFFSETTO:+0000
TZNAME:GMT
DTSTART:20161030T010000
END:STANDARD
BEGIN:DAYLIGHT
TZOFFSETFROM:+0000
TZOFFSETTO:+0100
TZNAME:BST
DTSTART:20170326T010000
END:DAYLIGHT
BEGIN:STANDARD
TZOFFSETFROM:+0100
TZOFFSETTO:+0000
TZNAME:GMT
DTSTART:20171029T010000
END:STANDARD
BEGIN:DAYLIGHT
TZOFFSETFROM:+0000
TZOFFSETTO:+0100
TZNAME:BST
DTSTART:20180325T010000
END:DAYLIGHT
BEGIN:STANDARD
TZOFFSETFROM:+0100
TZOFFSETTO:+0000
TZNAME:GMT
DTSTART:20181028T010000
END:STANDARD
BEGIN:DAYLIGHT
TZOFFSETFROM:+0000
TZOFFSETTO:+0100
TZNAME:BST
DTSTART:20190331T010000
END:DAYLIGHT
BEGIN:STANDARD
TZOFFSETFROM:+0100
TZOFFSETTO:+0000
TZNAME:GMT
DTSTART:20191027T010000
END:STANDARD
BEGIN:DAYLIGHT
TZOFFSETFROM:+0000
TZOFFSETTO:+0100
TZNAME:BST
DTSTART:20200329T010000
END:DAYLIGHT
BEGIN:STANDARD
TZOFFSETFROM:+0100
TZOFFSETTO:+0000
TZNAME:GMT
DTSTART:20201025T010000
END:STANDARD
END:VTIMEZONE
BEGIN:VEVENT
DTSTART;VALUE=DATE:20191123
DTEND;VALUE=DATE:20191125
DTSTAMP:20260425T014758
CREATED:20180908T092536Z
LAST-MODIFIED:20180908T092536Z
UID:3395-1574467200-1574639999@cotswoldtrekker.com
SUMMARY:Winter Wonderland Prinknash Abbey 2019
DESCRIPTION:Winter Wonderland Prinknash Abbey 2019\nVisit the Bird and Deer Park for the exceptional Winter Wonderland and make it into a Christmas to remember!\nThe Park has it’s own resident Reindeer\, Rudolf\, Prancer and Comet who reside all year round\, who knows\, this may be the only place in the county to see real reindeer this Christmas?\nVisitors will be able to look out over the stunning valley of magical Christmas lighting from the new Visitor Centre balconies where the trees and lakes will be flooded with coloured lighting after dusk\, creating spectacular effects. \nhttps://www.thebirdpark.com/events/christmas-at-the-bird-park-10
URL:https://cotswoldtrekker.com/event/winter-wonderland-prinknash-abbey-2019/
CATEGORIES:Christmas
ATTACH;FMTTYPE=image/jpeg:https://cotswoldtrekker.com/wp-content/uploads/2018/09/Winter-Wonderland-Medium.jpg
END:VEVENT
BEGIN:VEVENT
DTSTART;VALUE=DATE:20181124
DTEND;VALUE=DATE:20181126
DTSTAMP:20260425T014758
CREATED:20180908T091645Z
LAST-MODIFIED:20180908T092245Z
UID:3392-1543017600-1543190399@cotswoldtrekker.com
SUMMARY:Winter Wonderland Prinknash Abbey 2018
DESCRIPTION:Winter Wonderland Prinknash Abbey 2018\nVisit the Bird and Deer Park for the exceptional Winter Wonderland and make it into a Christmas to remember!\nThe Park has it’s own resident Reindeer\, Rudolf\, Prancer and Comet who reside all year round\, who knows\, this may be the only place in the county to see real reindeer this Christmas?\nVisitors will be able to look out over the stunning valley of magical Christmas lighting from the new Visitor Centre balconies where the trees and lakes will be flooded with coloured lighting after dusk\, creating spectacular effect. \nhttps://www.thebirdpark.com/events/christmas-at-the-bird-park-10
URL:https://cotswoldtrekker.com/event/winter-wonderland-prinknash-abbey-2018/
CATEGORIES:Christmas
ATTACH;FMTTYPE=image/jpeg:https://cotswoldtrekker.com/wp-content/uploads/2018/09/Winter-Wonderland-Medium.jpg
END:VEVENT
BEGIN:VEVENT
DTSTART;VALUE=DATE:20161126
DTEND;VALUE=DATE:20161127
DTSTAMP:20260425T014758
CREATED:20161029T150442Z
LAST-MODIFIED:20180908T093718Z
UID:920-1480118400-1480204799@cotswoldtrekker.com
SUMMARY:Winter Wonderland @ Prinknash Abbey
DESCRIPTION:Weekends 26th/27th November \n3rd/4th 10th/11th December & 16th to 24th inclusive \n Admissions from 2:30pm\, the Park closes at 6:00pm\nVisit the Bird and Deer Park for the exceptional Winter Wonderland and make it into a Christmas to remember! The Park has it’s own resident reindeer\, Rudolf\, Prancer and Comet who reside all year round and this may possibly be the only place in the county to see real reindeer this Christmas? \nVisitors will be able to look out over the stunning valley of magical Christmas lighting from the new Visitor Centre balconies where the trees and lakes will be flooded with coloured lighting\, creating spectacular effects. \nhttp://www.thebirdpark.com/events
URL:https://cotswoldtrekker.com/event/winter-wonderland-prinknash-abbey/
CATEGORIES:Christmas
ATTACH;FMTTYPE=image/jpeg:https://cotswoldtrekker.com/wp-content/uploads/2016/10/icon175x175_Christmas.jpg
END:VEVENT
END:VCALENDAR